BEGIN:VCALENDAR
VERSION:2.0
PRODID:-//CDM - ECPv6.15.20//NONSGML v1.0//EN
CALSCALE:GREGORIAN
METHOD:PUBLISH
X-WR-CALNAME:CDM
X-ORIGINAL-URL:https://www.chretiensdelamediterranee.com
X-WR-CALDESC:Évènements pour CDM
REFRESH-INTERVAL;VALUE=DURATION:PT1H
X-Robots-Tag:noindex
X-PUBLISHED-TTL:PT1H
BEGIN:VTIMEZONE
TZID:Europe/Paris
BEGIN:DAYLIGHT
TZOFFSETFROM:+0100
TZOFFSETTO:+0200
TZNAME:CEST
DTSTART:20220327T010000
END:DAYLIGHT
BEGIN:STANDARD
TZOFFSETFROM:+0200
TZOFFSETTO:+0100
TZNAME:CET
DTSTART:20221030T010000
END:STANDARD
BEGIN:DAYLIGHT
TZOFFSETFROM:+0100
TZOFFSETTO:+0200
TZNAME:CEST
DTSTART:20230326T010000
END:DAYLIGHT
BEGIN:STANDARD
TZOFFSETFROM:+0200
TZOFFSETTO:+0100
TZNAME:CET
DTSTART:20231029T010000
END:STANDARD
BEGIN:DAYLIGHT
TZOFFSETFROM:+0100
TZOFFSETTO:+0200
TZNAME:CEST
DTSTART:20240331T010000
END:DAYLIGHT
BEGIN:STANDARD
TZOFFSETFROM:+0200
TZOFFSETTO:+0100
TZNAME:CET
DTSTART:20241027T010000
END:STANDARD
END:VTIMEZONE
BEGIN:VEVENT
DTSTART;TZID=Europe/Paris:20231009T123000
DTEND;TZID=Europe/Paris:20231009T140000
DTSTAMP:20260423T131448
CREATED:20231003T111551Z
LAST-MODIFIED:20231011T183031Z
UID:27999-1696854600-1696860000@www.chretiensdelamediterranee.com
SUMMARY:Comment devient-on révolutionnaire? Une rencontre à l'IReMMO\, à Paris et en ligne.
DESCRIPTION:Lundi 9 octobre 2023 | 12h30-14h \nRencontre avec : \nYoussef El Chazli\, maître de conférences à l’université Paris 8 (Vincennes–Saint-Denis) et chercheur au CRESPPA-LabToP. Il est membre du projet ERC DREAM et chercheur associé au CEDEJ (Le Caire). Il est l’auteur de Devenir révolutionnaire à Alexandrie. Contribution à une sociologie historique du surgissement révolutionnaire en Égypte (Dalloz\, 2020) \nModération: Manon-Nour Tannous\, maîtresse de conférences à l’université de Reims Champagne Ardenne (CRDT) et chercheure associée à la chaire d’Histoire contemporaine du monde arabe (Collège de France) et au Centre Thucydide (Université Panthéon-Assas)\, elle est autrice de Chirac\, Assad et les autres. Les relations franco-syriennes depuis 1946 (Presses Universitaires de France\, 2017). Ses recherches portent sur les diplomaties occidentales au Moyen-Orient\, ainsi que sur la crise en Syrie et le multilatéralisme. \nTarifs et inscription \nTarif plein 6 €\nTarif réduit 3 € Étudiant.e.s et demandeur.e.s d’emploi \nAbonné.e.s 0 €  \nATTENTION : l’inscription à la newsletter ne compte pas comme abonnement  \nInscription \n \nPhoto : Colin Lloyd sur Unsplash \nInstitut de Recherches et d’Etudes  Méditerranée et Moyen-Orient (iReMMO)\, 7 rue des Carmes\, 75005 Paris (Métro Maubert-Mutualité). \nLivres des intervenant.e.s : \n \nTexte et photo iReMMO. \n“La Syrie\, au-delà de la guerre”\, livre de Marion Nour-Tanous\, a été recensé sur ce site :\nhttps://www.chretiensdelamediterranee.com/livre/la-syrie-au-dela-de-la-guerre-histoire-politique-societe/ \nRetour à l’accueil
URL:https://www.chretiensdelamediterranee.com/event/comment-devient-on-revolutionnaire-une-rencontre-a-liremmo-a-paris-et-en-ligne/
END:VEVENT
BEGIN:VEVENT
DTSTART;TZID=Europe/Paris:20231012T183000
DTEND;TZID=Europe/Paris:20231012T203000
DTSTAMP:20260423T131448
CREATED:20231001T090755Z
LAST-MODIFIED:20231001T090808Z
UID:27995-1697135400-1697142600@www.chretiensdelamediterranee.com
SUMMARY:Conférence inaugurale du Parcours Mohammed Arkoun à Lyon.
DESCRIPTION:Le Parcours Mohammed Arkoun\, cursus dédié à l’étude de l’islam\, des mondes musulmans\, du fait religieux et de la laïcité\, organise sa conférence inaugurale \nle Jeudi 12 octobre 2023 à 18H30 \nUniversité Jean Moulin Lyon 3\nAmphithéâtre Quinet\n7 rue Chevreul | Lyon 7e \n“Mohammed Arkoun\, père de l’islamologie appliquée. Une approche critique\, subversive et humaniste de la pensée islamiqueé \nPar Leïla Tauil\, enseignante à l’Université de Genève \nINSCRIPTION OBLIGATOIRE\nPour vous inscrire\, cliquez ici. \nVoir la présentation du Parcours \nRetour à l’accueil \n.
URL:https://www.chretiensdelamediterranee.com/event/conference-inaugurale-du-parcours-mohammed-arkoun-a-lyon/
END:VEVENT
BEGIN:VEVENT
DTSTART;TZID=Europe/Paris:20231014T123000
DTEND;TZID=Europe/Paris:20231014T140000
DTSTAMP:20260423T131448
CREATED:20231011T182554Z
LAST-MODIFIED:20231011T182611Z
UID:28058-1697286600-1697292000@www.chretiensdelamediterranee.com
SUMMARY:Israël. L’agonie d’une démocratie. Présentation  du livre de Charles Enderlin à l'iReMMO (Paris).
DESCRIPTION:Samedi 14 octobre 2023 | 12h30-14h \n\n\n\n\n\n\n\n\n\n\n\n\nPrésentation du livre de Charles Enderlin Israël. L’agonie d’une démocratie (Coll. Libelle\, Seuil 2023) \n\n\n\n\n\n\n\n\n\n\n\n\n  \n\n\n\n\n\n\n\nRencontre avec :\n\n\n\n\n\n\n\n\n\nCharles Enderlin\,  journaliste\, grand reporter et auteur franco-israélien. Il a été correspondant à Jérusalem pour la chaîne de télévision France 2 de 1981 à 2015. Auteur de nombreux ouvrages dont notamment Au nom du Temple : l’irrésistible ascension du messianisme juif en Israël\, 1967-2012 (Le Seuil\, 2013)\, Les Juifs de France entre République et sionisme (Le Seuil\, 2020)\, De Notre Correspondant à Jérusalem. Le journalisme comme identité (Le Seuil\, 2021). Il vient de publier Israël. L’agonie d’une démocratie (Coll. Libelle\, Seuil 2023) \nModération : Jean-Paul Chagnollaud\, président de l’iReMMO \n\n\n\n\n\n\n\n\n\n\n\n\n\n\n\n\n\nTarifs et inscriptions\n\n\n\n\n\n\n\n\n\n\n\n\n\n\n Tarif plein  6 €\n\n\n\n\n Tarif réduit  3 €. Étudiant.e.s et demandeur.e.s d’emploi.\n\n\n\n\n Abonné.e.s  0 €\nATTENTION : l’inscription à la newsletter ne compte pas comme abonnement \n\n\n\n\n\n\n\n  Inscription  \n\n\n\n\n\n\n\n\n\n\n\n\nInstitut de Recherches et d’Etudes  Méditerranée et Moyen-Orient (iReMMO)\, 7 rue des Carmes\, 75005 Paris (Métro Maubert-Mutualité). \n\n\n\n\n\n\n\n\n\n\n\n\nAcheter le livre\n\nRetour à l’accueil
URL:https://www.chretiensdelamediterranee.com/event/israel-lagonie-dune-democratie-presentation-du-livre-de-charles-enderlin-a-liremmo-paris/
END:VEVENT
BEGIN:VEVENT
DTSTART;TZID=Europe/Paris:20231015T143000
DTEND;TZID=Europe/Paris:20231015T180000
DTSTAMP:20260423T131448
CREATED:20231011T171155Z
LAST-MODIFIED:20231014T074846Z
UID:28042-1697380200-1697392800@www.chretiensdelamediterranee.com
SUMMARY:La rencontre publique du GAIC à la mosquée de Massy est REPORTEE en raison des circonstances actuelles.
DESCRIPTION:Une rencontre publique est organisée par le Groupe d’amitié islamo-chrétienne (GAIC) ce \ndimanche 15 octobre 2023 à Massy de 14h30 à 18h00\n sur le thème “Israël-Palestine\, un tournant inquiétant ! Quels soutiens en France ?”\nDans le contexte tragique actuel\, cette rencontre prend tout son sens.\nNous entendrons notamment le Professeur Christophe Oberlin\, chirurgien et historien\, et le Docteur Christophe Denantes\, tous deux bons connaisseurs de la bande de Gaza.\n\n\n \nMosquée de Massy\n123 avenue de Paris 91300 Massy – RER B ou C (gare de Massy-Palaiseau)\n\nRetour à l’accueil
URL:https://www.chretiensdelamediterranee.com/event/rencontre-publique-organisee-par-le-groupe-damitie-islamo-chretienne-gaic-a-la-mosquee-de-massy/
END:VEVENT
BEGIN:VEVENT
DTSTART;TZID=Europe/Paris:20231016T100000
DTEND;TZID=Europe/Paris:20231016T170000
DTSTAMP:20260423T131448
CREATED:20231011T180952Z
LAST-MODIFIED:20231011T181115Z
UID:28048-1697450400-1697475600@www.chretiensdelamediterranee.com
SUMMARY:Colloque "Stratégies de puissance au Moyen-Orient" à Paris avec l'iReMMO et le comité Moyen-orient & Monde Arabe des Jeunes IHEDN et l'iReMMO.
DESCRIPTION:  \n \nLes Jeunes IHEDN et l’Institut de Recherches et d’Etudes  Méditerranée et Moyen-Orient (iReMMO) invitent au colloque \n\n\n\n\n\nStratégies de puissance au Moyen-Orient: apaisements diplomatiques et répercussions sur les crises régionales\n\n\n\n\n\nAvec des chercheurs\, journalistes de terrain\, et experts sur leur\nzone de spécialité. \n\n\n\n\n\n\n\n\n\n\n\n\n\nLundi 16 Octobre 2023\, 10H00 – 17H00\n\n\n\n\n\n\nEcole Militaire\, 1 Place Joffre\, 75007 Paris\n\n\n\n\n\n\n\n\n\n\n\n\n\n  Inscription & Programme Complet  \n\n\n\n\nClôture des inscriptions le 13 octobre \nUne pièce d’identité sera demandée à l’entrée de l’Ecole militaire \n\n\n\n\n\n\n\n\n\n\n\n\nDeux tables rondes avec quatre intervenants aborderont les sujets des puissances régionales au Moyen-Orient\, leurs stratégies extérieures et les implications pour d’éventuels déblocages de crises. \nIl est possible de s’inscrire pour une demi-journée seulement. \n \nImages iReMMO et jeunes IHEDN \nRetour à l’accueil
URL:https://www.chretiensdelamediterranee.com/event/colloque-strategies-de-puissance-au-moyen-orient-a-paris-avec-liremmo-et-comite-moyen-orient-monde-arabe-des-jeunes-ihedn-et-liremmo/
ATTACH;FMTTYPE=image/jpeg:https://www.chretiensdelamediterranee.com/wp-content/uploads/2023/10/Carte-Iremmo-IhedbJeunes.jpg
END:VEVENT
BEGIN:VEVENT
DTSTART;TZID=Europe/Paris:20231022T150000
DTEND;TZID=Europe/Paris:20231022T180000
DTSTAMP:20260423T131448
CREATED:20231019T185001Z
LAST-MODIFIED:20231019T185001Z
UID:28123-1697986800-1697997600@www.chretiensdelamediterranee.com
SUMMARY:Rassemblement pour Gaza à Paris\, place de la République. La France doit demander un cessez-le feu immédiat.
DESCRIPTION:Nous relayons cet appel\, issu d’un collectif auquel appartiennent des associations dont nous apprécions les positions\, comme l’Association France Palestine solidarité (AFPS) et l’Union juive française pour la Paix (UJFP). \n \n> Voir et partager l’événement Facebook \nNous exigeons l’arrêt immédiat des opérations militaires contre la Bande de Gaza. L’offensive menée par l’État d’Israël contre la population de la Bande de Gaza\, ses habitations\, ses infrastructures est d’une violence sans précédent.Nous condamnons les crimes de guerre commis par des commandos du Hamas contre des civils israéliens\, crimes qui ont coûté la vie à plus de 1400 personnes dont des centaines de femmes et d’enfants. Comme tout peuple opprimé\, le peuple palestinien a le droit de résister\, mais rien ne peut justifier de tels actes.Ces crimes ne peuvent en aucun cas justifier qu’Israël commette d’autres crimes de guerre avec l’aval de ses alliés. Chaque victime civile israélienne comme palestinienne est à déplorer. Chaque vie compte autant qu’une autre à nos yeux. Nous exigeons la libération immédiate de tous les civils pris en otage.Des quartiers entiers de la Bande de Gaza ont été rasés\, des écoles\, des universités\, des hôpitaux détruits. On compte ce 18 octobre\, 3 478 personnes tuées dont 853 enfants et 6 journalistes\, dont des centaines de morts dans le bombardement de l’hôpital Al-Ahli de Gaza\, 12 500 blessés\, et des centaines de milliers de personnes déplacées qui se trouvent sans abri. Du fait d’un siège inhumain\, l’eau\, l’électricité et la nourriture manquent cruellement. Déjà durement touchée\, la population de la Bande de Gaza est au bord d’une catastrophe humanitaire majeure. Ce sont des crimes de guerre et qui visent aujourd’hui les hommes\, les femmes et les enfants de la Bande de Gaza\, au nombre de 2\,2 millions.Nous demandons d’urgence au président de la République de cesser son soutien inconditionnel à la politique israélienne. La France devrait porter la voix de la paix.La France doit demander la levée immédiate du siège inhumain imposé à la population de Gaza\, et l’annulation de l’ordre d’évacuation de la moitié du territoire de la Bande de Gaza. Au-delà de la catastrophe humanitaire que nous dénonçons\, rien ne peut justifier la destruction massive des infrastructures civiles qu’impliquerait une telle opération.  Nous exigeons l’arrêt des opérations militaires contre la Bande de Gaza\, dont les populations civiles sont et seront les principales victimes\, dans le cadre d’un cessez-le feu total et immédiat.Depuis des dizaines d’années la communauté internationale est restée passive sans faire appliquer le droit international devant les dénis des droits du peuple palestinien : occupation sans fin et colonisation de la Cisjordanie y compris Jérusalem-Est\, blocus destructeur et inhumain de la Bande de Gaza depuis 16 ans…Une paix juste et durable ne sera possible que dans le cadre de la reconnaissance des droits du peuple palestinien.Nous appelons à se rassembler partout en France sur les bases de cet appel. A Paris\, nous appelons à un grand rassemblement le dimanche 22 octobre à 15 heures à République.Les libertés d’expression et de manifestation\, libertés démocratiques fondamentales\, doivent être respectées.Paris\, le 19 octobre 2023>> Voir l’article sur le site du Collectif national \n> Voir et partager l’événement Facebook____________Membres du Collectif National pour une Paix Juste et Durable entre Palestiniens et Israéliens signataires de l’appel Agir Contre le Colonialisme Aujourd’hui (ACCA) – AFD International – AILES Femmes du Maroc – Alternative Libertaire (AL) – Américains contre la guerre (AAW) – Association des Travail-leurs Maghrébins de France (ATMF) – Association des Tunisiens en France (ATF) – Association France Palestine Solidarité (AFPS) – Association Nationale des Elus Communistes et Républi-cains (ANECR) – Association pour la Taxation des Transactions financières et pour l’Action Citoyenne (ATTAC) – Association pour les Jumelages entre les camps de réfugiés Palestiniens et les villes Françaises (AJPF) – Association Républicaine des Anciens Combattants (ARAC) – Association Universitaire pour le Respect du Droit International en Palestine (AURDIP) – Ce-detim / IPAM – Collectif des Musulmans de France (CMF) – Collectif Faty Koumba : Association des Libertés\, Droits de l’Homme et non-violence – Collectif Judéo-Arabe et Citoyen pour la Palestine (CJACP) – Collectif Paix Palestine Israël (CPPI Saint-Denis) – Comité Justice et Paix en Palestine et au Proche-Orient du 5e arrt (CJPP5) – Confédération générale du Travail (CGT) – Droit-Solidarité – Ensemble! Mouvement pour une alternative de gauche écologiste et solidaire – Fédération des Tunisiens pour une Citoyenneté des deux Rives (FTCR) – Fédération Syndicale Unitaire (FSU) – Génération Palestine – La Courneuve-Palestine – La France Insoumise (LFI) – le Mou-vement de la Paix – les Femmes en noir (FEN) – Ligue Internationale des Femmes pour la Paix et la Liberté\, section française de la Women’s International League for Peace and Freedom (WILPF) (LIFPL) – Mouvement contre le Racisme et pour l’Amitié entre les Peuples (MRAP) – Nouveau Parti Anticapitaliste (NPA) – Organisation de Femmes Egalité – Parti Communiste des Ouvriers de France (PCOF) – Parti de Gauche (PG) – Participation et Spiritualité Musulmanes (PSM) –Sortir du colonialisme – Union des Travailleurs Immigrés Tunisiens (UTIT) – Union Juive Française pour la Paix (UJFP) -Union Nationale des Etudiants de France (UNEF) – Union syndicale Solidaires \nRetour à l’accueil
URL:https://www.chretiensdelamediterranee.com/event/rassemblement-pour-gaza-a-paris-place-de-la-republique-la-france-doit-demander-un-cessez-le-feu-immediat/
END:VEVENT
BEGIN:VEVENT
DTSTART;TZID=Europe/Paris:20231025T123000
DTEND;TZID=Europe/Paris:20231025T140000
DTSTAMP:20260423T131448
CREATED:20231024T105518Z
LAST-MODIFIED:20231024T113131Z
UID:28127-1698237000-1698242400@www.chretiensdelamediterranee.com
SUMMARY:La mémoire collective des Arméniens de Turquie. Du génocide au mémoricide. A Paris et en ligne\, à l'iReMMO.
DESCRIPTION:Mercredi 25 octobre 2023 | 12h30-14h \n\n\n\n\n\n\n\n\n\n\n\n\nPrésentation du livre de Nazli Temir Beyleyran La mémoire collective des Arméniens de Turquie. Du génocide au mémoricide (L’Harmattan\, 2023). \n \n\n\n\n\n\n\n\n\n\n\n\n\n\n\n\n\n\n\nRencontre avec :\n\n\n\nNazli Temir Beyleyran\, universitaire et chercheuse spécialisée sur l’étude des Arméniens de Turquie\, elle est sociologue de formation\, titulaire d’un doctorat de l’École des hautes études en sciences sociales à Paris. Elle est également chargée de cours à l’Institut national des langues et civilisations orientales à Paris. Elle a publié de nombreux articles dans des revues académiques. \nModération: Tigrane Yegavian\, chercheur au Centre français de recherche sur le renseignement (CF2R)\, diplômé de Sciences Po Paris et des Langues’O\, journaliste et arabisant. Il a contribué à l’ouvrage Communautés en exil. Arméniens\, Kurdes et Chrétiens d’Orient en territoires franciliens (Coll. Bibliothèque de l’iReMMO\, L’Harmattan\, 2015). Il est l’auteur du livre Minorités d’Orient\, les oubliés de l’histoire (Le Rocher\, 2019). Il a récemment publié Géopolitique de l’Arménie (Bibliomonde\, 2022). \n\n\n\n\n\n\n\n\n\n\n\nTarifs et inscriptions\n\n\n\n\n\n\n\n\n\n\n\n\n -Tarif plein  6 €\n\n\n -Tarif réduit  3 € Étudiant.e.s et demandeur.e.s d’emploi.\n\n\n -Abonné.e.s  0 €\nATTENTION : l’inscription à la newsletter ne compte pas comme abonnement \n\n\n\n\n\n\n\n\n\n\n\n\nPrésentation de l’éditeur\n\n\n\n\n\n\n\n\n\n\nCet ouvrage analyse les façons de vivre des Arméniens en Turquie\, leurs stratégies de vie et de survie\, leurs visibilités publiques et leurs rapports avec autrui\, dans une perspective intergénérationnelle. Au sein de cette “société de Turquie”\, les continuités\, les ruptures et les changements sociaux vécus par les différentes générations sont étudiés. Les récits personnels présentés ont été collectés à Istanbul\, dans les quartiers habités par des Arméniens\, et dans certaines villes anatoliennes. L’auteure propose une étude critique et multidisciplinaire (histoire\, psychologie sociale et sociologie) du traitement de la mémoire par les pouvoirs publics de Turquie.\n\n\n\n\n\n\n\n\n\n\nLivres des intervenant.e.s :\n\n\n\n\n\n\n\n\n\n\n\n\n\n\n\n\n\n\n\n\n\n\n\n\n\n\n\n\n\n\n\n\n\n\n\n\nInscription ici \n\n\n\n\n\n\n\n\n\n\n\n\nInstitut de Recherches et d’Etudes  Méditerranée et Moyen-Orient (iReMMO)\, 7 rue des Carmes\, 75005 Paris (Métro Maubert-Mutualité). \n\n\n\n\n\n\n\n\nRetour à l’accueil
URL:https://www.chretiensdelamediterranee.com/event/la-memoire-collective-des-armeniens-de-turquie-du-genocide-au-memoricide-a-paris-et-en-ligne/
END:VEVENT
BEGIN:VEVENT
DTSTART;TZID=Europe/Paris:20231026T190000
DTEND;TZID=Europe/Paris:20231026T210000
DTSTAMP:20260423T131448
CREATED:20231019T175113Z
LAST-MODIFIED:20231026T065956Z
UID:28118-1698346800-1698354000@www.chretiensdelamediterranee.com
SUMMARY:Identité Nationale et Destin Commun : la particularité du Liban. Conférence proposée par le Centre d’Études des Cultures et des Religions de l’UCLy\, à Lyon.
DESCRIPTION:Conférence proposée par le Centre d’Études des Cultures et des Religions de l’UCLy (Université catholique de Lyon). \nLe 26 octobre 2023\, 19h00 – 21h00\nSur inscription : http://theo.event@univ-catholyon.fr / 04 72 32 50 63 \nUniversité Catholique de Lyon – 23 place Carnot – Lyon 2e \nRetour à l’accueil
URL:https://www.chretiensdelamediterranee.com/event/identite-nationale-et-destin-commun-la-particularite-du-liban-conference-proposee-par-le-centre-detudes-des-cultures-et-des-religions-de-lucly/
END:VEVENT
BEGIN:VEVENT
DTSTART;TZID=Europe/Paris:20231026T190000
DTEND;TZID=Europe/Paris:20231026T210000
DTSTAMP:20260423T131448
CREATED:20231025T133521Z
LAST-MODIFIED:20231025T133521Z
UID:28163-1698346800-1698354000@www.chretiensdelamediterranee.com
SUMMARY:Israël Palestine. A l’appel de la LDH\, mobilisation pour la paix\, la protection des populations civiles et un cessez-le-feu immédiat. A Paris.
DESCRIPTION:CDM s’associe à cet appel de la Ligue des Droits de l’Homme pour la paix\, la protection des populations civiles et un cessez-le-feu immédiat en Israël Palestine. \n \nMeeting le jeudi 26 octobre\, de 19h à 21h\, salle Olympe de Gouges à Paris \n\n\n\n\n\n\n\nDes crimes de masse\, visant essentiellement des populations civiles\, ont été commis les 7 et 8 octobre par des milices lourdement armées du Hamas dans le sud d’Israël. Ces actes de terrorisme révulsent en nous l’Humanité. Injustifiables\, ils portent en eux le pire et n’annoncent que le pire pour tous les autres. \nLe droit d’Israël à la sécurité est incontestable. Mais les gouvernants israéliens ont choisi de riposter en mobilisant une énorme capacité de destruction et de mort. \nA Gaza\, véritable prison à ciel ouvert\, ce sont plus de deux millions de personnes qui subissent des bombardements massifs et fuient sans issue viable leurs maisons détruites. Le blocus\, en vigueur depuis 2007\, va aujourd’hui jusqu’à la privation d’eau\, de vivres\, de médicaments\, de carburant et d’électricité y compris dans les hôpitaux. Le siège total de Gaza imposé depuis plusieurs jours n’est pas une riposte proportionnée contre le Hamas mais une punition collective contre la population civile de ce territoire. Elle a déjà fait plusieurs milliers de victimes dans la population civile. \nLe choix de la vengeance plutôt que de la justice a déjà été fait à de multiples reprises\, sans jamais assurer à quiconque ni la sécurité\, ni la paix\, ni la justice. \nParce que toutes les vies comptent\, parce qu’elles condamnent les crimes de guerre et les crimes contre l’humanité où qu’ils aient été commis\, nos organisations demandent à la communauté internationale\, à l’ONU\, au Conseil de l’Europe\, à l’Union européenne et à la France de tout mettre en œuvre pour faire appliquer le droit humanitaire international. \nCe que ce droit exige\, c’est : \n– la libération immédiate\, sans condition\, de tous les otages civils actuellement détenus par le Hamas ; \n– un cessez le feu immédiat\, avec la fin des bombardements et du déplacement forcé des populations ; \n– la protection de toutes les personnes civiles quelle que soit leur nationalité ; \n– la mise en place en urgence de façon durable et suffisante d’un corridor humanitaire permettant d’acheminer les produits de première nécessité et les médicaments ; \n– la levée complète du blocus de la bande de Gaza. \nLe cycle infernal de la terreur ne pourra être brisé que par le respect du droit et d’abord du droit international humanitaire\, le soutien à l’enquête de la Cour pénale internationale ouverte en 2021\, la mise en place et le respect d’une paix durable entre les deux peuples. \nNous appelons à la mobilisation la plus large possible pour que les populations d’Israël et de Palestine puissent enfin voir leurs droits respectés et protégés notamment dans le cadre des résolutions de l’ONU de 1967. \nC’est pourquoi les organisations soussignées appellent à se réunir :\nle jeudi 26 octobre de 19h à 21h (accueil à partir de 18h30)\nsalle Olympe de Gouges\, 15 rue Merlin 75011 Paris \nPas de drapeau\, ni de pancartes. \nSignature de l’appel en cours \nInscription obligatoire \nMeeting organisé en respect du plan Vigipirate Urgence Attentat.  \n\n\n\n\nRetour à l’accueil
URL:https://www.chretiensdelamediterranee.com/event/israel-palestine-a-lappel-de-la-ldh-mobilisation-pour-la-paix-la-protection-des-populations-civiles-et-un-cessez-le-feu-immediat-a-paris/
END:VEVENT
BEGIN:VEVENT
DTSTART;VALUE=DATE:20231027
DTEND;VALUE=DATE:20231028
DTSTAMP:20260423T131448
CREATED:20231027T110956Z
LAST-MODIFIED:20231027T111016Z
UID:28182-1698364800-1698451199@www.chretiensdelamediterranee.com
SUMMARY:Guerre Israël-Hamas : une journée de prière et de jeûne pour la paix en Terre sainte à l'appel du pape.
DESCRIPTION:Le pape François invite ce vendredi 27 octobre 2023 les chrétiens et les autres croyants\, ainsi que “ous ceux qui ont à cœur la cause de la paix dans le monde” à une deuxième journée de jeûne\, prière et pénitence pour la paix. \nUne veillée de prière est organisée à 18 heures dans la basilique Saint-Pierre\, présidée par le pape. “Nous nous réunirons pour prier et implorer la paix dans le monde”. \nPlus de détails dans le journal La Croix du 27 octobre 2023 :\nhttps://www.la-croix.com/religion/Guerre-Israel-Hamas-journee-priere-jeune-paix-Terre-Sainte-2023-10-27-1201288488. \nRetour à l’accueil \n  \n 
URL:https://www.chretiensdelamediterranee.com/event/guerre-israel-hamas-une-journee-de-priere-et-de-jeune-pour-la-paix-en-terre-sainte-a-lappel-du-pape/
END:VEVENT
BEGIN:VEVENT
DTSTART;TZID=Europe/Paris:20231027T143000
DTEND;TZID=Europe/Paris:20231027T183000
DTSTAMP:20260423T131448
CREATED:20231024T112754Z
LAST-MODIFIED:20231024T113047Z
UID:28137-1698417000-1698431400@www.chretiensdelamediterranee.com
SUMMARY:Tunisie\, arrêt sur la transition. A Paris et en ligne\, à l'iReMMO.
DESCRIPTION:Grand Format\, à l’iReMMO \n\n\nVendredi 27 octobre 2023 | 14h30-18h30\nPrésentation du n°125 de la revue Confluences Méditerranée Tunisie: arrêt sur la transition (L’Harmattan\, 2023) dirigé par Manon Moulin et Jean-François Coustillière. \n \nTable Ronde 1 | 14h30-16h30 Retour (en arrière) sur la transition politique tunisienne \nMohamed-Chérif Ferjani (en ligne)\, professeur honoraire de l’Université Lyon 2. Il est l’auteur de l’article “La transition tunisienne: de Charybde en Sylla. D’une expression de la révolution conservatrice à l’autre”\, Hatem Nafti\, essayiste\, il collabore régulièrement avec divers médias internationaux francophones. Il est l’auteur de l’article “Le système de Kaïs Saïed : un projet populiste autoritaire porté avec le concours des élites”. \nModération: Jean-Paul Chagnollaud\, président de l’iReMMO. \nTable Ronde 2 | 16h30-18h30 Questions identitaires et migration: état des lieux au pays du jasmin \nWael Garnaou (en ligne)\, maître-assistant à l’Université de Sousse\, il est docteur en psychanalyse et psychopathologie de l’Université de Paris. Il est l’auteur de l’article “Externalisation des frontières européennes et politiques migratoires tunisiennes: une psychologie des impacts socio-politiques”\, Yasmine Akrimi\, analyste de recherche sur l’Afrique du Nord au Brussels International Center (BIC). Elle est l’autrice de l’article “Racisme\, blanchité et État-nation: la construction de l’altérité des Noirs tunisiens”. \nModération: Manon Moulin\, secrétaire de rédaction de la revue Confluences Méditerranée. \n\n\n\n\n\n\n\nInscription ici\n\n\n\n\n\n\n\n\n\n\n\n\nInstitut de Recherches et d’Etudes  Méditerranée et Moyen-Orient (iReMMO)\, 7 rue des Carmes\, 75005 Paris (Métro Maubert-Mutualité). \nTexte et image iReMMO \n\n\n\n\n\n\n\n\nRetour à l’accueil\n\n 
URL:https://www.chretiensdelamediterranee.com/event/tunisie-arret-sur-la-transition-a-paris-et-en-ligne/
END:VEVENT
BEGIN:VEVENT
DTSTART;TZID=Europe/Paris:20231030T190000
DTEND;TZID=Europe/Paris:20231030T200000
DTSTAMP:20260423T131448
CREATED:20231029T173543Z
LAST-MODIFIED:20231029T174650Z
UID:28191-1698692400-1698696000@www.chretiensdelamediterranee.com
SUMMARY:Pour la paix au Proche-Orient\, prière du GAIC au Forum 104 à Paris.
DESCRIPTION:Pour la paix au Proche-Orient\, le Groupe d’Amitié Islamo-Chrétienne (GAIC) vous propose de participer à une prière commune aux chrétiens et aux musulmans :\n ce lundi 30 octobre à 19h au Forum 104\n(104 rue de Vaugirard 75006 Paris).\n \nVenez nombreuses et nombreux en artisans de paix et de justice !\n\nRetour à l’accueil
URL:https://www.chretiensdelamediterranee.com/event/pour-la-paix-au-proche-orient-priere-du-gaic-au-forum-104-a-paris/
END:VEVENT
END:VCALENDAR