BEGIN:VCALENDAR
VERSION:2.0
PRODID:-//CDM - ECPv6.15.20//NONSGML v1.0//EN
CALSCALE:GREGORIAN
METHOD:PUBLISH
X-ORIGINAL-URL:https://www.chretiensdelamediterranee.com
X-WR-CALDESC:Évènements pour CDM
REFRESH-INTERVAL;VALUE=DURATION:PT1H
X-Robots-Tag:noindex
X-PUBLISHED-TTL:PT1H
BEGIN:VTIMEZONE
TZID:Europe/Paris
BEGIN:DAYLIGHT
TZOFFSETFROM:+0100
TZOFFSETTO:+0200
TZNAME:CEST
DTSTART:20190331T010000
END:DAYLIGHT
BEGIN:STANDARD
TZOFFSETFROM:+0200
TZOFFSETTO:+0100
TZNAME:CET
DTSTART:20191027T010000
END:STANDARD
BEGIN:DAYLIGHT
TZOFFSETFROM:+0100
TZOFFSETTO:+0200
TZNAME:CEST
DTSTART:20200329T010000
END:DAYLIGHT
BEGIN:STANDARD
TZOFFSETFROM:+0200
TZOFFSETTO:+0100
TZNAME:CET
DTSTART:20201025T010000
END:STANDARD
BEGIN:DAYLIGHT
TZOFFSETFROM:+0100
TZOFFSETTO:+0200
TZNAME:CEST
DTSTART:20210328T010000
END:DAYLIGHT
BEGIN:STANDARD
TZOFFSETFROM:+0200
TZOFFSETTO:+0100
TZNAME:CET
DTSTART:20211031T010000
END:STANDARD
END:VTIMEZONE
BEGIN:VEVENT
DTSTART;TZID=Europe/Paris:20200226T190000
DTEND;TZID=Europe/Paris:20200226T210000
DTSTAMP:20260423T120713
CREATED:20200131T132447Z
LAST-MODIFIED:20200216T163045Z
UID:18764-1582743600-1582750800@www.chretiensdelamediterranee.com
SUMMARY:Parution du livre de René Nouailhat\, "La leçon de Malicornay"
DESCRIPTION:Notre ami\, membre du C.A de notre association\, René Nouailhat\, organise une soirée de présentation de son livre\, qui aura lieu aux éditions de L’Harmattan\, 20 rue des Ecoles\, 75005 Paris. Il entend ainsi élargir le soutien à l’instituteur de Malicornay\, sanctionné pour son souci de faire découvrir le fait religieux dans le cadre scolaire. \nLe personnel de L’Harmattan offre la possibilité d’organiser une réunion dans le cadre des opérations de signature de livres publiés à L’Harmatan. Il met à disposition une salle  et la logistique pour 60 personnes. \nL’instituteur condamné\, Matthieu Faucher\, sera là. Il pourra témoigner. Il y aura aussi Régis Debray\, et René Chiche\, professeur de philosophie\, qui vient de publier à propos de cette affaire un livre intitulé “La désintruction nationale”.
URL:https://www.chretiensdelamediterranee.com/event/presentation-du-livre-de-rene-nouailhat-la-lecon-de-malicornay/
CATEGORIES:Débat
END:VEVENT
END:VCALENDAR