BEGIN:VCALENDAR
VERSION:2.0
PRODID:-//CDM - ECPv6.15.20//NONSGML v1.0//EN
CALSCALE:GREGORIAN
METHOD:PUBLISH
X-WR-CALNAME:CDM
X-ORIGINAL-URL:https://www.chretiensdelamediterranee.com
X-WR-CALDESC:Évènements pour CDM
REFRESH-INTERVAL;VALUE=DURATION:PT1H
X-Robots-Tag:noindex
X-PUBLISHED-TTL:PT1H
BEGIN:VTIMEZONE
TZID:Europe/Paris
BEGIN:DAYLIGHT
TZOFFSETFROM:+0100
TZOFFSETTO:+0200
TZNAME:CEST
DTSTART:20210328T010000
END:DAYLIGHT
BEGIN:STANDARD
TZOFFSETFROM:+0200
TZOFFSETTO:+0100
TZNAME:CET
DTSTART:20211031T010000
END:STANDARD
BEGIN:DAYLIGHT
TZOFFSETFROM:+0100
TZOFFSETTO:+0200
TZNAME:CEST
DTSTART:20220327T010000
END:DAYLIGHT
BEGIN:STANDARD
TZOFFSETFROM:+0200
TZOFFSETTO:+0100
TZNAME:CET
DTSTART:20221030T010000
END:STANDARD
BEGIN:DAYLIGHT
TZOFFSETFROM:+0100
TZOFFSETTO:+0200
TZNAME:CEST
DTSTART:20230326T010000
END:DAYLIGHT
BEGIN:STANDARD
TZOFFSETFROM:+0200
TZOFFSETTO:+0100
TZNAME:CET
DTSTART:20231029T010000
END:STANDARD
END:VTIMEZONE
BEGIN:VEVENT
DTSTART;TZID=Europe/Paris:20220609T123000
DTEND;TZID=Europe/Paris:20220609T140000
DTSTAMP:20260422T225138
CREATED:20220607T162538Z
LAST-MODIFIED:20220607T162552Z
UID:24347-1654777800-1654783200@www.chretiensdelamediterranee.com
SUMMARY:Shireen Abu Akleh\, un crime colonial en Palestine. Avec l'IReMMO à Paris.
DESCRIPTION:Un Midi de l’IReMO. \n \nLa rencontre aura lieu exclusivement en ligne \nJeudi 9 juin 2022 – 12h30-14h \nRencontre avec : \nInès Abdel Razek\, analyste franco-palestinienne\, directrice du plaidoyer pour le Palestine Institute for Public Diplomacy\, Thomas Vescovi\, chercheur indépendant en histoire contemporaine et auteur de L’Échec d’une utopie. Une histoire des gauches en Israël (La Découverte\, 2021). \nModération: Dominique Vidal\, journaliste et historien \nInscription \nIReMMO\, Institut de Recherche et d’Études sur la Méditerranée et le Moyen-Orient\, 7 rue des Carmes\, 75005 Paris. \nImage IReMMO \nRetour à l’accueil
URL:https://www.chretiensdelamediterranee.com/event/shireen-abu-akleh-un-crime-colonial-en-palestine-avec-liremmo-a-paris/
END:VEVENT
END:VCALENDAR