BEGIN:VCALENDAR
VERSION:2.0
PRODID:-//CDM - ECPv6.15.20//NONSGML v1.0//EN
CALSCALE:GREGORIAN
METHOD:PUBLISH
X-WR-CALNAME:CDM
X-ORIGINAL-URL:https://www.chretiensdelamediterranee.com
X-WR-CALDESC:Évènements pour CDM
REFRESH-INTERVAL;VALUE=DURATION:PT1H
X-Robots-Tag:noindex
X-PUBLISHED-TTL:PT1H
BEGIN:VTIMEZONE
TZID:Europe/Paris
BEGIN:DAYLIGHT
TZOFFSETFROM:+0100
TZOFFSETTO:+0200
TZNAME:CEST
DTSTART:20210328T010000
END:DAYLIGHT
BEGIN:STANDARD
TZOFFSETFROM:+0200
TZOFFSETTO:+0100
TZNAME:CET
DTSTART:20211031T010000
END:STANDARD
BEGIN:DAYLIGHT
TZOFFSETFROM:+0100
TZOFFSETTO:+0200
TZNAME:CEST
DTSTART:20220327T010000
END:DAYLIGHT
BEGIN:STANDARD
TZOFFSETFROM:+0200
TZOFFSETTO:+0100
TZNAME:CET
DTSTART:20221030T010000
END:STANDARD
BEGIN:DAYLIGHT
TZOFFSETFROM:+0100
TZOFFSETTO:+0200
TZNAME:CEST
DTSTART:20230326T010000
END:DAYLIGHT
BEGIN:STANDARD
TZOFFSETFROM:+0200
TZOFFSETTO:+0100
TZNAME:CET
DTSTART:20231029T010000
END:STANDARD
END:VTIMEZONE
BEGIN:VEVENT
DTSTART;TZID=Europe/Paris:20220608T190000
DTEND;TZID=Europe/Paris:20220608T210000
DTSTAMP:20260422T205306
CREATED:20220602T070934Z
LAST-MODIFIED:20220607T162854Z
UID:24308-1654714800-1654722000@www.chretiensdelamediterranee.com
SUMMARY:Conférence de Mgr Pascal Gollnisch avec l'Œuvre d'Orient à Paris. Quel rôle géopolitique pour les chrétiens d'Orient.
DESCRIPTION:Mgr Pascal Gollnisch sera présent à l’École Supérieure de Commerce de Paris (ESCP) pour une conférence inédite le \nmercredi 8 juin 2022 de 19h à 21h \nQuel rôle pour les chrétiens d’Orient dans la géopolitique du Moyen-Orient ? \nIl abordera la situation des communautés chrétiennes orientales au Moyen-Orient\, une minorité au cœur d’une région en proie à des bouleversements géopolitiques profonds et confrontée à de nombreux défis : guerres\, corruption\, crises économiques\, instrumentalisation\, citoyenneté… \nCampus ESCP Montparnasse\n3 rue Armand Voisin\n75015 Paris \nInscription \n \nDonner à L’Œuvre d’Orient \n20 rue du Regard\, 75006 Paris \nRetour à l’accueil
URL:https://www.chretiensdelamediterranee.com/event/conference-de-mgr-pascal-gollnisch/
END:VEVENT
END:VCALENDAR