BEGIN:VCALENDAR
VERSION:2.0
PRODID:-//CDM - ECPv6.15.20//NONSGML v1.0//EN
CALSCALE:GREGORIAN
METHOD:PUBLISH
X-WR-CALNAME:CDM
X-ORIGINAL-URL:https://www.chretiensdelamediterranee.com
X-WR-CALDESC:Évènements pour CDM
REFRESH-INTERVAL;VALUE=DURATION:PT1H
X-Robots-Tag:noindex
X-PUBLISHED-TTL:PT1H
BEGIN:VTIMEZONE
TZID:Europe/Paris
BEGIN:DAYLIGHT
TZOFFSETFROM:+0100
TZOFFSETTO:+0200
TZNAME:CEST
DTSTART:20200329T010000
END:DAYLIGHT
BEGIN:STANDARD
TZOFFSETFROM:+0200
TZOFFSETTO:+0100
TZNAME:CET
DTSTART:20201025T010000
END:STANDARD
BEGIN:DAYLIGHT
TZOFFSETFROM:+0100
TZOFFSETTO:+0200
TZNAME:CEST
DTSTART:20210328T010000
END:DAYLIGHT
BEGIN:STANDARD
TZOFFSETFROM:+0200
TZOFFSETTO:+0100
TZNAME:CET
DTSTART:20211031T010000
END:STANDARD
BEGIN:DAYLIGHT
TZOFFSETFROM:+0100
TZOFFSETTO:+0200
TZNAME:CEST
DTSTART:20220327T010000
END:DAYLIGHT
BEGIN:STANDARD
TZOFFSETFROM:+0200
TZOFFSETTO:+0100
TZNAME:CET
DTSTART:20221030T010000
END:STANDARD
END:VTIMEZONE
BEGIN:VEVENT
DTSTART;TZID=Europe/Paris:20210605T140000
DTEND;TZID=Europe/Paris:20210605T190000
DTSTAMP:20260422T172442
CREATED:20210519T202418Z
LAST-MODIFIED:20210526T092038Z
UID:21295-1622901600-1622919600@www.chretiensdelamediterranee.com
SUMMARY:Minorités d'Orient\, avec Antoine Fleyfel\, à l'IReMMO.
DESCRIPTION:Les intervenants de cet après-midi sur les minorités d’Orient le \nSamedi 5 juin 2021 – 14h-19h \nsont : \nAntoine Fleyfel\, professeur de théologie et de philosophie au Collège des Bernardins et à l’Université Saint-Joseph de Beyrouth\, \nTigrane Yégavian\, diplômé de Sciences Po Paris et des Langues’O\, journaliste et arabisant. \nInscription en ligne : \nhttps://iremmo.us13.list-manage.com/track/click?u=be31092dc24d8f2b1ea2f002a&id=1494a5cd26&e=a5ff5d0cd8 \nRetour à l’accueil
URL:https://www.chretiensdelamediterranee.com/event/minorites-dorient-avec-antoine-fleyfel-a-liremmo/
END:VEVENT
END:VCALENDAR