BEGIN:VCALENDAR
VERSION:2.0
PRODID:-//CDM - ECPv6.15.20//NONSGML v1.0//EN
CALSCALE:GREGORIAN
METHOD:PUBLISH
X-WR-CALNAME:CDM
X-ORIGINAL-URL:https://www.chretiensdelamediterranee.com
X-WR-CALDESC:Évènements pour CDM
REFRESH-INTERVAL;VALUE=DURATION:PT1H
X-Robots-Tag:noindex
X-PUBLISHED-TTL:PT1H
BEGIN:VTIMEZONE
TZID:Europe/Paris
BEGIN:DAYLIGHT
TZOFFSETFROM:+0100
TZOFFSETTO:+0200
TZNAME:CEST
DTSTART:20190331T010000
END:DAYLIGHT
BEGIN:STANDARD
TZOFFSETFROM:+0200
TZOFFSETTO:+0100
TZNAME:CET
DTSTART:20191027T010000
END:STANDARD
BEGIN:DAYLIGHT
TZOFFSETFROM:+0100
TZOFFSETTO:+0200
TZNAME:CEST
DTSTART:20200329T010000
END:DAYLIGHT
BEGIN:STANDARD
TZOFFSETFROM:+0200
TZOFFSETTO:+0100
TZNAME:CET
DTSTART:20201025T010000
END:STANDARD
BEGIN:DAYLIGHT
TZOFFSETFROM:+0100
TZOFFSETTO:+0200
TZNAME:CEST
DTSTART:20210328T010000
END:DAYLIGHT
BEGIN:STANDARD
TZOFFSETFROM:+0200
TZOFFSETTO:+0100
TZNAME:CET
DTSTART:20211031T010000
END:STANDARD
BEGIN:DAYLIGHT
TZOFFSETFROM:+0100
TZOFFSETTO:+0200
TZNAME:CEST
DTSTART:20220327T010000
END:DAYLIGHT
BEGIN:STANDARD
TZOFFSETFROM:+0200
TZOFFSETTO:+0100
TZNAME:CET
DTSTART:20221030T010000
END:STANDARD
END:VTIMEZONE
BEGIN:VEVENT
DTSTART;VALUE=DATE:20201227
DTEND;VALUE=DATE:20210107
DTSTAMP:20260420T122808
CREATED:20201227T204534Z
LAST-MODIFIED:20201227T204816Z
UID:19995-1609027200-1609977599@www.chretiensdelamediterranee.com
SUMMARY:La Lumière de la paix de Bethléem 2020 avec les scouts et guides chrétiens
DESCRIPTION:Démarche portée en France par les Eclaireuses et Eclaireurs Unionistes de France (EEUdF) et les Scouts et Guides de France (SGDF)\, la Lumière de la Paix de Bethléem est un événement scout chrétien qui se déroule chaque année pendant la période de l’Avent. Allumée dans la grotte de la nativité à Bethléem\, la lumière est rapportée en Autriche\, puis transmise de main en main partout en Europe. Elle constitue un symbole de paix\, que l’on peut diffuser\, recevoir ou encore envoyer à un proche. \nScouts et Guides de France (SGDF)\nhttps://www.sgdf.fr/lumiere-de-la-paix-de-bethleem \nCette année\, suite à l’annulation de la cérémonie internationale en Autriche et aux consignes sanitaires nationales\, il n’y aura pas de délégation nationale rapportant la Flamme en France depuis l’Autriche. Il nous semble cependant essentiel\, cette année encore\, de partager la Lumière de la Paix de Bethléem avec tous ceux qui en ont besoin et avec qui nous voulons célébrer la période du temps de l’Avent et de Noël\, dans le respect de consignes sanitaires permettant de garantir la sécurité de chacun. \nChacun peut participer à la transmission de la Lumière de la Paix de Bethléem\, qu’il/elle soit scout ou non. Ce partage se vit à partir du week-end du 13 décembre\, et dure tout le temps de l’Avent et de Noël\, au moins jusqu’à l’Epiphanie. \nLa Lumière de la Paix de Bethléem est une opportunité d’agir pour un monde plus fraternel. C’est un symbole d’espoir à l’échelle locale et mondiale. Elle nous redit simplement la présence du Christ dans nos vies et l’importance de rappeler cette présence à tous ceux qui en ont besoin. \nEclaireuses et Eclaireurs Unionistes de France (EEUdF)\nhttps://eeudf.org/blog/lumiere-de-la-paix-de-bethleem-une-flamme-a-diffuser-des-le-13-decembre/ \n“Tu seras mon héros auprès des nations”\, tel en est le thème.\n \nInspiré des versets 4 à 10 du chapitre 1 de Jérémie\, le thème de cette année invite à réfléchir sur la notion de héros et héroïne que nous sommes tous et toutes. Une prière\, un texte accompagnent la démarche. \nCette année\, la diffusion est organisée localement\, conjointement entre les groupes locaux des Scouts et Guides de France et des Éclaireuses et Éclaireurs Unionistes de France. Il n’y a pas de célébration phare comme les années précédentes\, chaque point de diffusion doit entrer en contact avec les autres pour organiser la diffusion de la Lumière (voir les sites). \nLa diffusion peut se dérouler sur une place\, un marché\, dans un temple\, une église\, une maison de retraite … le format de la diffusion est ouvert ! De même\, la Lumière peut continuer à se diffuser jusqu’à la fin du mois de janvier : la paix\, c’est toute l’année. \nRetour à l’accueil
URL:https://www.chretiensdelamediterranee.com/event/la-lumiere-de-bethleem-2020/
END:VEVENT
END:VCALENDAR